BEGIN:VCALENDAR
VERSION:2.0
PRODID:-//rssny.org//NONSGML kigkonsult.se iCalcreator 2.30.10//
CALSCALE:GREGORIAN
METHOD:PUBLISH
UID:40ad0307-1899-4053-8a4d-91783a426b4f
X-WR-CALDESC:
X-WR-RELCALID:a70622f563afd76fd9b7a7f4ac09cb90
X-WR-TIMEZONE:America/New_York
BEGIN:VTIMEZONE
TZID:America/New_York
BEGIN:STANDARD
TZNAME:EST
DTSTART:20231105T020000
TZOFFSETFROM:-0400
TZOFFSETTO:-0500
RDATE:20241103T020000
END:STANDARD
BEGIN:DAYLIGHT
TZNAME:EDT
DTSTART:20230312T020000
TZOFFSETFROM:-0500
TZOFFSETTO:-0400
RDATE:20240310T020000
RDATE:20250309T020000
END:DAYLIGHT
END:VTIMEZONE
BEGIN:VEVENT
UID:8d32f1c9-f313-459c-a6f6-56622f30c935
DTSTAMP:20260423T193636Z
DESCRIPTION:
DTSTART;TZID=America/New_York:20240306T100000
DTEND;TZID=America/New_York:20240306T120000
LOCATION:
SUMMARY:Blood Pressure with Jennifer
END:VEVENT
END:VCALENDAR
