BEGIN:VCALENDAR
VERSION:2.0
PRODID:-//rssny.org//NONSGML kigkonsult.se iCalcreator 2.30.10//
CALSCALE:GREGORIAN
METHOD:PUBLISH
UID:92537e00-74a2-4f4e-9db2-b4be7ae24e4d
X-WR-CALDESC:The FDNY will be here with their fire safety and education pro
 gram. Bring your questions!\n\nHere is a link to their resource center - h
 ttps://www.nyc.gov/site/fdny/education/fire-and-life-safety/resource-cente
 r.page
X-WR-RELCALID:4890705d5d68bf28380e3bac1758808d
X-WR-TIMEZONE:America/New_York
BEGIN:VTIMEZONE
TZID:America/New_York
BEGIN:STANDARD
TZNAME:EST
DTSTART:20231105T020000
TZOFFSETFROM:-0400
TZOFFSETTO:-0500
RDATE:20241103T020000
END:STANDARD
BEGIN:DAYLIGHT
TZNAME:EDT
DTSTART:20230312T020000
TZOFFSETFROM:-0500
TZOFFSETTO:-0400
RDATE:20240310T020000
RDATE:20250309T020000
END:DAYLIGHT
END:VTIMEZONE
BEGIN:VEVENT
UID:8ce537dd-7862-49d7-befe-9f25c314d3d2
DTSTAMP:20260423T205016Z
DESCRIPTION:The FDNY will be here with their fire safety and education prog
 ram. Bring your questions!\n\nHere is a link to their resource center - ht
 tps://www.nyc.gov/site/fdny/education/fire-and-life-safety/resource-center
 .page
DTSTART;TZID=America/New_York:20240223T130000
DTEND;TZID=America/New_York:20240223T140000
LOCATION:
SUMMARY:FDNY Presentation (Hybrid)
END:VEVENT
END:VCALENDAR
