BEGIN:VCALENDAR
VERSION:2.0
PRODID:-//rssny.org//NONSGML kigkonsult.se iCalcreator 2.30.10//
CALSCALE:GREGORIAN
METHOD:PUBLISH
UID:3a07f401-c1d8-4ab1-971c-09dd860b5735
X-WR-CALDESC:
X-WR-RELCALID:48e8acb716bba14949fdf49084132ed8
X-WR-TIMEZONE:America/New_York
BEGIN:VTIMEZONE
TZID:America/New_York
BEGIN:STANDARD
TZNAME:EST
DTSTART:20231105T020000
TZOFFSETFROM:-0400
TZOFFSETTO:-0500
RDATE:20241103T020000
END:STANDARD
BEGIN:DAYLIGHT
TZNAME:EDT
DTSTART:20230312T020000
TZOFFSETFROM:-0500
TZOFFSETTO:-0400
RDATE:20240310T020000
RDATE:20250309T020000
END:DAYLIGHT
END:VTIMEZONE
BEGIN:VEVENT
UID:077bf60e-1a3d-41c0-baf2-d1ca749b0fb4
DTSTAMP:20260423T205304Z
DESCRIPTION:
DTSTART;TZID=America/New_York:20240221T100000
DTEND;TZID=America/New_York:20240221T120000
LOCATION:
SUMMARY:Blood Pressure with Jennifer
END:VEVENT
END:VCALENDAR
