BEGIN:VCALENDAR
VERSION:2.0
PRODID:-//rssny.org//NONSGML kigkonsult.se iCalcreator 2.30.10//
CALSCALE:GREGORIAN
METHOD:PUBLISH
UID:601f467e-71eb-43b6-be3b-2944ef52aff8
X-WR-CALDESC:Get your fortune told with the mysterious Madame Barbara\, RSS
  Seer extraordinaire!
X-WR-RELCALID:c69b7c7420124eb219db12e5a3e71e16
X-WR-TIMEZONE:America/New_York
BEGIN:VTIMEZONE
TZID:America/New_York
BEGIN:STANDARD
TZNAME:EST
DTSTART:20231105T020000
TZOFFSETFROM:-0400
TZOFFSETTO:-0500
RDATE:20241103T020000
END:STANDARD
BEGIN:DAYLIGHT
TZNAME:EDT
DTSTART:20230312T020000
TZOFFSETFROM:-0500
TZOFFSETTO:-0400
RDATE:20240310T020000
RDATE:20250309T020000
END:DAYLIGHT
END:VTIMEZONE
BEGIN:VEVENT
UID:cab16643-9ba5-4d9e-b3ec-79427ffe10a9
DTSTAMP:20260423T210409Z
DESCRIPTION:Get your fortune told with the mysterious Madame Barbara\, RSS 
 Seer extraordinaire!
DTSTART;TZID=America/New_York:20240214T133000
DTEND;TZID=America/New_York:20240214T143000
LOCATION:
SUMMARY:Oracle Card Readings with Barbara (In Center)
END:VEVENT
END:VCALENDAR
