BEGIN:VCALENDAR
VERSION:2.0
PRODID:-//rssny.org//NONSGML kigkonsult.se iCalcreator 2.30.10//
CALSCALE:GREGORIAN
METHOD:PUBLISH
UID:f291315e-adb1-474b-a215-c071bd6033ec
X-WR-CALDESC:
X-WR-RELCALID:2da2f6f7f40c2cd67684678512996ccb
X-WR-TIMEZONE:America/New_York
BEGIN:VTIMEZONE
TZID:America/New_York
BEGIN:STANDARD
TZNAME:EST
DTSTART:20231105T020000
TZOFFSETFROM:-0400
TZOFFSETTO:-0500
RDATE:20241103T020000
END:STANDARD
BEGIN:DAYLIGHT
TZNAME:EDT
DTSTART:20230312T020000
TZOFFSETFROM:-0500
TZOFFSETTO:-0400
RDATE:20240310T020000
RDATE:20250309T020000
END:DAYLIGHT
END:VTIMEZONE
BEGIN:VEVENT
UID:262d4278-6863-4141-a941-7797dc17f503
DTSTAMP:20260423T205810Z
DESCRIPTION:
DTSTART;TZID=America/New_York:20240209T130000
DTEND;TZID=America/New_York:20240209T140000
LOCATION:
SUMMARY:My Trips to China with Cecile Lumer (Hybrid)
END:VEVENT
END:VCALENDAR
